BEGIN:VCALENDAR
VERSION:2.0
PRODID:-//Patriots Symphonic Band - ECPv6.15.20//NONSGML v1.0//EN
CALSCALE:GREGORIAN
METHOD:PUBLISH
X-ORIGINAL-URL:https://patriotsband.com
X-WR-CALDESC:Events for Patriots Symphonic Band
REFRESH-INTERVAL;VALUE=DURATION:PT1H
X-Robots-Tag:noindex
X-PUBLISHED-TTL:PT1H
BEGIN:VTIMEZONE
TZID:America/New_York
BEGIN:DAYLIGHT
TZOFFSETFROM:-0500
TZOFFSETTO:-0400
TZNAME:EDT
DTSTART:20250309T070000
END:DAYLIGHT
BEGIN:STANDARD
TZOFFSETFROM:-0400
TZOFFSETTO:-0500
TZNAME:EST
DTSTART:20251102T060000
END:STANDARD
BEGIN:DAYLIGHT
TZOFFSETFROM:-0500
TZOFFSETTO:-0400
TZNAME:EDT
DTSTART:20260308T070000
END:DAYLIGHT
BEGIN:STANDARD
TZOFFSETFROM:-0400
TZOFFSETTO:-0500
TZNAME:EST
DTSTART:20261101T060000
END:STANDARD
BEGIN:DAYLIGHT
TZOFFSETFROM:-0500
TZOFFSETTO:-0400
TZNAME:EDT
DTSTART:20270314T070000
END:DAYLIGHT
BEGIN:STANDARD
TZOFFSETFROM:-0400
TZOFFSETTO:-0500
TZNAME:EST
DTSTART:20271107T060000
END:STANDARD
END:VTIMEZONE
BEGIN:VEVENT
DTSTART;TZID=America/New_York:20260913T140000
DTEND;TZID=America/New_York:20260913T163000
DTSTAMP:20260424T155708
CREATED:20241230T230355Z
LAST-MODIFIED:20260216T221309Z
UID:300-1789308000-1789317000@patriotsband.com
SUMMARY:Rehearsal
DESCRIPTION:Patriot’s Band Rehearsal \nDate: Sunday\, September 13\, 2026\, \nTime: 2:00 p.m. – 4:30 p.m. \nWhere: First Congregational United Church of Christ \n 
URL:https://patriotsband.com/event/rehearsal-8/
LOCATION:First Congregational United Church of Christ\, 330 2nd St.\, Elyria\, OH\, United States
CATEGORIES:Rehearsal
END:VEVENT
BEGIN:VEVENT
DTSTART;TZID=America/New_York:20260919T030000
DTEND;TZID=America/New_York:20260919T163000
DTSTAMP:20260424T155708
CREATED:20260123T202701Z
LAST-MODIFIED:20260123T202745Z
UID:1128-1789786800-1789835400@patriotsband.com
SUMMARY:Elyria Apple Festival Concert
DESCRIPTION:Elyria Apple Festival concert. \nDate: September 19 or 20\, 2026 (TBD) \nTime: TBD \nLocation: Ely Square\, Downtown Elyria\, Ohio
URL:https://patriotsband.com/event/elyria-apple-festival-concert/
LOCATION:Ely Square\, Middle Avenue and Broad St.\, Elyria\, OH\, 44035\, United States
CATEGORIES:Concert
END:VEVENT
BEGIN:VEVENT
DTSTART;TZID=America/New_York:20260927T140000
DTEND;TZID=America/New_York:20260927T163000
DTSTAMP:20260424T155708
CREATED:20250428T144321Z
LAST-MODIFIED:20260216T221150Z
UID:717-1790517600-1790526600@patriotsband.com
SUMMARY:Rehearsal
DESCRIPTION:Patriot’s Band Rehearsal \nDate: Sunday\, September 27\, 2026\, \nTime: 2:00 p.m. – 4:30 p.m. \nLocation: First Congregational United Church of Christ
URL:https://patriotsband.com/event/rehearsal/
LOCATION:First Congregational United Church of Christ\, 330 2nd St.\, Elyria\, OH\, United States
CATEGORIES:Rehearsal
END:VEVENT
END:VCALENDAR