BEGIN:VCALENDAR
VERSION:2.0
PRODID:-//Patriots Symphonic Band - ECPv6.15.20//NONSGML v1.0//EN
CALSCALE:GREGORIAN
METHOD:PUBLISH
X-ORIGINAL-URL:https://patriotsband.com
X-WR-CALDESC:Events for Patriots Symphonic Band
REFRESH-INTERVAL;VALUE=DURATION:PT1H
X-Robots-Tag:noindex
X-PUBLISHED-TTL:PT1H
BEGIN:VTIMEZONE
TZID:America/New_York
BEGIN:DAYLIGHT
TZOFFSETFROM:-0500
TZOFFSETTO:-0400
TZNAME:EDT
DTSTART:20250309T070000
END:DAYLIGHT
BEGIN:STANDARD
TZOFFSETFROM:-0400
TZOFFSETTO:-0500
TZNAME:EST
DTSTART:20251102T060000
END:STANDARD
BEGIN:DAYLIGHT
TZOFFSETFROM:-0500
TZOFFSETTO:-0400
TZNAME:EDT
DTSTART:20260308T070000
END:DAYLIGHT
BEGIN:STANDARD
TZOFFSETFROM:-0400
TZOFFSETTO:-0500
TZNAME:EST
DTSTART:20261101T060000
END:STANDARD
BEGIN:DAYLIGHT
TZOFFSETFROM:-0500
TZOFFSETTO:-0400
TZNAME:EDT
DTSTART:20270314T070000
END:DAYLIGHT
BEGIN:STANDARD
TZOFFSETFROM:-0400
TZOFFSETTO:-0500
TZNAME:EST
DTSTART:20271107T060000
END:STANDARD
END:VTIMEZONE
BEGIN:VEVENT
DTSTART;TZID=America/New_York:20260607T140000
DTEND;TZID=America/New_York:20260607T163000
DTSTAMP:20260424T120345
CREATED:20241230T230603Z
LAST-MODIFIED:20250922T220050Z
UID:306-1780840800-1780849800@patriotsband.com
SUMMARY:Rehearsal
DESCRIPTION:Patriot’s Band Rehearsal \nDate: Sunday\, June 7\, 2026\, \nTime: 2:00 p.m. – 4:30 p.m. \nLocation: First Congregational United Church of Christ \n 
URL:https://patriotsband.com/event/rehearsal-11/
LOCATION:First Congregational United Church of Christ\, 330 2nd St.\, Elyria\, OH\, United States
CATEGORIES:Rehearsal
END:VEVENT
BEGIN:VEVENT
DTSTART;TZID=America/New_York:20260614T140000
DTEND;TZID=America/New_York:20260614T153000
DTSTAMP:20260424T120345
CREATED:20260306T232955Z
LAST-MODIFIED:20260327T221054Z
UID:1186-1781445600-1781451000@patriotsband.com
SUMMARY:Flag Day Concert
DESCRIPTION:Flag Day Concert \nSunday\, June 14\, 2026 \nBlack River Landing Pavilion \n421 Black River Ln \nLorain\, Ohio \n2:00 p.m. \n 
URL:https://patriotsband.com/event/black-river-landing-concert/
LOCATION:Black River Landing\, 421 Black River Lane\, Lorain\, OH\, 44052\, United States
CATEGORIES:Concert
END:VEVENT
BEGIN:VEVENT
DTSTART;TZID=America/New_York:20260627T190000
DTEND;TZID=America/New_York:20260627T203000
DTSTAMP:20260424T120345
CREATED:20260123T185118Z
LAST-MODIFIED:20260123T185118Z
UID:1111-1782586800-1782592200@patriotsband.com
SUMMARY:Paper Moon Vineyards Concert
DESCRIPTION:Paper Moon Vineyards Concert \nSaturday\, June 27\, 2026 \n2008 State Road \nVermilion\, Ohio \n7:00 p.m. \nFree Outdoor Concert
URL:https://patriotsband.com/event/paper-moon-vineyards-concert/
LOCATION:Paper Moon Vineyard and Winery\, 2008 State Rd\, Vermilion\, OH\, 44089\, United States
CATEGORIES:Concert
END:VEVENT
END:VCALENDAR