BEGIN:VCALENDAR
VERSION:2.0
PRODID:-//Patriots Symphonic Band - ECPv6.15.20//NONSGML v1.0//EN
CALSCALE:GREGORIAN
METHOD:PUBLISH
X-WR-CALNAME:Patriots Symphonic Band
X-ORIGINAL-URL:https://patriotsband.com
X-WR-CALDESC:Events for Patriots Symphonic Band
REFRESH-INTERVAL;VALUE=DURATION:PT1H
X-Robots-Tag:noindex
X-PUBLISHED-TTL:PT1H
BEGIN:VTIMEZONE
TZID:America/New_York
BEGIN:DAYLIGHT
TZOFFSETFROM:-0500
TZOFFSETTO:-0400
TZNAME:EDT
DTSTART:20240310T070000
END:DAYLIGHT
BEGIN:STANDARD
TZOFFSETFROM:-0400
TZOFFSETTO:-0500
TZNAME:EST
DTSTART:20241103T060000
END:STANDARD
BEGIN:DAYLIGHT
TZOFFSETFROM:-0500
TZOFFSETTO:-0400
TZNAME:EDT
DTSTART:20250309T070000
END:DAYLIGHT
BEGIN:STANDARD
TZOFFSETFROM:-0400
TZOFFSETTO:-0500
TZNAME:EST
DTSTART:20251102T060000
END:STANDARD
BEGIN:DAYLIGHT
TZOFFSETFROM:-0500
TZOFFSETTO:-0400
TZNAME:EDT
DTSTART:20260308T070000
END:DAYLIGHT
BEGIN:STANDARD
TZOFFSETFROM:-0400
TZOFFSETTO:-0500
TZNAME:EST
DTSTART:20261101T060000
END:STANDARD
BEGIN:DAYLIGHT
TZOFFSETFROM:-0500
TZOFFSETTO:-0400
TZNAME:EDT
DTSTART:20270314T070000
END:DAYLIGHT
BEGIN:STANDARD
TZOFFSETFROM:-0400
TZOFFSETTO:-0500
TZNAME:EST
DTSTART:20271107T060000
END:STANDARD
END:VTIMEZONE
BEGIN:VTIMEZONE
TZID:UTC
BEGIN:STANDARD
TZOFFSETFROM:+0000
TZOFFSETTO:+0000
TZNAME:UTC
DTSTART:20240101T000000
END:STANDARD
END:VTIMEZONE
BEGIN:VEVENT
DTSTART;TZID=America/New_York:20260322T140000
DTEND;TZID=America/New_York:20260322T163000
DTSTAMP:20260425T172507
CREATED:20250922T215310Z
LAST-MODIFIED:20250922T215310Z
UID:1002-1774188000-1774197000@patriotsband.com
SUMMARY:Rehearsal
DESCRIPTION:Patriot’s Band Rehearsal \nDate: Sunday\, March 22\, 2026\, \nTime: 2:00 p.m. – 4:30 p.m. \nWhere: First Congregational United Church of Christ
URL:https://patriotsband.com/event/rehearsal-20/
LOCATION:First Congregational United Church of Christ\, 330 2nd St.\, Elyria\, OH\, United States
CATEGORIES:Rehearsal
END:VEVENT
BEGIN:VEVENT
DTSTART;TZID=America/New_York:20260308T140000
DTEND;TZID=America/New_York:20260308T163000
DTSTAMP:20260425T172507
CREATED:20250922T215155Z
LAST-MODIFIED:20250922T215155Z
UID:999-1772978400-1772987400@patriotsband.com
SUMMARY:Rehearsal
DESCRIPTION:Patriot’s Band Rehearsal \nDate: Sunday\, March 8\, 2026\, \nTime: 2:00 p.m. – 4:30 p.m. \nWhere: First Congregational United Church of Christ
URL:https://patriotsband.com/event/rehearsal-19/
LOCATION:OH
CATEGORIES:Rehearsal
END:VEVENT
BEGIN:VEVENT
DTSTART;TZID=America/New_York:20260222T140000
DTEND;TZID=America/New_York:20260222T163000
DTSTAMP:20260425T172507
CREATED:20250922T215058Z
LAST-MODIFIED:20250922T215219Z
UID:997-1771768800-1771777800@patriotsband.com
SUMMARY:Rehearsal
DESCRIPTION:Patriot’s Band Rehearsal \nDate: Sunday\, February 22\, 2026\, \nTime: 2:00 p.m. – 4:30 p.m. \nWhere: First Congregational United Church of Christ
URL:https://patriotsband.com/event/rehearsal-2/
LOCATION:First Congregational United Church of Christ\, 330 2nd St.\, Elyria\, OH\, United States
CATEGORIES:Rehearsal
END:VEVENT
BEGIN:VEVENT
DTSTART;TZID=America/New_York:20260125T140000
DTEND;TZID=America/New_York:20260125T163000
DTSTAMP:20260425T172507
CREATED:20241230T230304Z
LAST-MODIFIED:20260123T183850Z
UID:298-1769349600-1769358600@patriotsband.com
SUMMARY:Rehearsal is CANCELLED
DESCRIPTION:Patriot’s Band Rehearsal  is CANCELLED \nDate: Sunday\, January 25\, 2026\, \n  \n 
URL:https://patriotsband.com/event/rehearsal-7/
LOCATION:First Congregational United Church of Christ\, 330 2nd St.\, Elyria\, OH\, United States
CATEGORIES:Rehearsal
END:VEVENT
BEGIN:VEVENT
DTSTART;TZID=America/New_York:20260111T140000
DTEND;TZID=America/New_York:20260111T163000
DTSTAMP:20260425T172507
CREATED:20241230T230202Z
LAST-MODIFIED:20250922T214730Z
UID:296-1768140000-1768149000@patriotsband.com
SUMMARY:Rehearsal
DESCRIPTION:Patriot’s Band Rehearsal \nDate: Sunday\, January 11\, 2026\, \nTime: 2:00 p.m. – 4:30 p.m. \nLocation: First Congregational United Church of Christ \n 
URL:https://patriotsband.com/event/rehearsal-6/
LOCATION:First Congregational United Church of Christ\, 330 2nd St.\, Elyria\, OH\, United States
CATEGORIES:Rehearsal
END:VEVENT
BEGIN:VEVENT
DTSTART;TZID=America/New_York:20251116T140000
DTEND;TZID=America/New_York:20251116T163000
DTSTAMP:20260425T172507
CREATED:20241230T230953Z
LAST-MODIFIED:20250122T040256Z
UID:316-1763301600-1763310600@patriotsband.com
SUMMARY:Rehearsal
DESCRIPTION:Patriot’s Band Rehearsal \nDate: Sunday\, November 16\, 2025\, \nTime: 2:00 p.m. – 4:30 p.m. \nLocation: First Congregational United Church of Christ \n 
URL:https://patriotsband.com/event/rehearsal-16/
LOCATION:First Congregational United Church of Christ\, 330 2nd St.\, Elyria\, OH\, United States
CATEGORIES:Rehearsal
END:VEVENT
BEGIN:VEVENT
DTSTART;TZID=America/New_York:20251109T140000
DTEND;TZID=America/New_York:20251109T163000
DTSTAMP:20260425T172507
CREATED:20241230T230911Z
LAST-MODIFIED:20250122T040153Z
UID:314-1762696800-1762705800@patriotsband.com
SUMMARY:Rehearsal
DESCRIPTION:Patriot’s Band Rehearsal \nDate: November 9\, 2025\, \nTime: 2:00 p.m. – 4:30 p.m. \nLocation: First Congregational United Church of Christ \n 
URL:https://patriotsband.com/event/rehearsal-15/
LOCATION:First Congregational United Church of Christ\, 330 2nd St.\, Elyria\, OH\, United States
CATEGORIES:Rehearsal
END:VEVENT
BEGIN:VEVENT
DTSTART;TZID=America/New_York:20251026T140000
DTEND;TZID=America/New_York:20251026T163000
DTSTAMP:20260425T172507
CREATED:20241230T230823Z
LAST-MODIFIED:20250122T040115Z
UID:312-1761487200-1761496200@patriotsband.com
SUMMARY:Rehearsal
DESCRIPTION:Patriot’s Band Rehearsal \nDate: Sunday\, October 26\, 2025\, \nTime: 2:00 p.m. – 4:30 p.m. \nLocation: First Congregational United Church of Christ \n 
URL:https://patriotsband.com/event/rehearsal-14/
LOCATION:First Congregational United Church of Christ\, 330 2nd St.\, Elyria\, OH\, United States
CATEGORIES:Rehearsal
END:VEVENT
BEGIN:VEVENT
DTSTART;TZID=America/New_York:20251012T140000
DTEND;TZID=America/New_York:20251012T163000
DTSTAMP:20260425T172507
CREATED:20241230T230736Z
LAST-MODIFIED:20250122T040027Z
UID:310-1760277600-1760286600@patriotsband.com
SUMMARY:Rehearsal
DESCRIPTION:Patriot’s Band Rehearsal \nDate: Sunday\, October 12\, 2025\, \nTime: 2:00 p.m. – 4:30 p.m. \nLocation: First Congregational United Church of Christ \n 
URL:https://patriotsband.com/event/rehearsal-13/
LOCATION:First Congregational United Church of Christ\, 330 2nd St.\, Elyria\, OH\, United States
CATEGORIES:Rehearsal
END:VEVENT
BEGIN:VEVENT
DTSTART;TZID=America/New_York:20250928T140000
DTEND;TZID=America/New_York:20250928T163000
DTSTAMP:20260425T172507
CREATED:20241230T230654Z
LAST-MODIFIED:20250122T040004Z
UID:308-1759068000-1759077000@patriotsband.com
SUMMARY:Rehearsal
DESCRIPTION:Patriot’s Band Rehearsal \nDate: September 28\, 2025\, \nTime: 2:00 p.m. – 4:30 p.m. \nLocation: First Congregational United Church of Christ \n 
URL:https://patriotsband.com/event/rehearsal-12/
LOCATION:First Congregational United Church of Christ\, 330 2nd St.\, Elyria\, OH\, United States
CATEGORIES:Rehearsal
END:VEVENT
BEGIN:VEVENT
DTSTART;TZID=America/New_York:20250601T140000
DTEND;TZID=America/New_York:20250601T163000
DTSTAMP:20260425T172507
CREATED:20241230T230523Z
LAST-MODIFIED:20250122T035710Z
UID:304-1748786400-1748795400@patriotsband.com
SUMMARY:Rehearsal
DESCRIPTION:Patriot’s Band Rehearsal \nDate: Sunday\, June 1\, 2025\, \nTime: 2:00 p.m. – 4:30 p.m. \nLocation: First Congregational United Church of Christ \n 
URL:https://patriotsband.com/event/rehearsal-10/
LOCATION:First Congregational United Church of Christ\, 330 2nd St.\, Elyria\, OH\, United States
CATEGORIES:Rehearsal
END:VEVENT
BEGIN:VEVENT
DTSTART;TZID=America/New_York:20250518T140000
DTEND;TZID=America/New_York:20250518T163000
DTSTAMP:20260425T172507
CREATED:20241230T230443Z
LAST-MODIFIED:20250122T035646Z
UID:302-1747576800-1747585800@patriotsband.com
SUMMARY:Rehearsal
DESCRIPTION:Patriot’s Band Rehearsal \nDate: Sunday\, May 18\, 2025\, \nTime: 2:00 p.m. – 4:30 p.m. \nLocation: First Congregational United Church of Christ \n 
URL:https://patriotsband.com/event/rehearsal-9/
LOCATION:First Congregational United Church of Christ\, 330 2nd St.\, Elyria\, OH\, United States
CATEGORIES:Rehearsal
END:VEVENT
BEGIN:VEVENT
DTSTART;TZID=America/New_York:20250302T140000
DTEND;TZID=America/New_York:20250302T163000
DTSTAMP:20260425T172507
CREATED:20241230T230116Z
LAST-MODIFIED:20250122T035436Z
UID:294-1740924000-1740933000@patriotsband.com
SUMMARY:Rehearsal
DESCRIPTION:Patriot’s Band Rehearsal \nDate: Sunday\, March 2\, 2025\, \nTime: 2:00 p.m. – 4:30 p.m. \nLocation: First Congregational United Church of Christ \n 
URL:https://patriotsband.com/event/rehearsal-5/
LOCATION:First Congregational United Church of Christ\, 330 2nd St.\, Elyria\, OH\, United States
CATEGORIES:Rehearsal
END:VEVENT
BEGIN:VEVENT
DTSTART;TZID=America/New_York:20250223T140000
DTEND;TZID=America/New_York:20250223T163000
DTSTAMP:20260425T172507
CREATED:20241230T230024Z
LAST-MODIFIED:20250122T035413Z
UID:292-1740319200-1740328200@patriotsband.com
SUMMARY:Rehearsal
DESCRIPTION:Patriot’s Band Rehearsal \nDate: February 23\, 2025\, \nTime: 2:00 p.m. – 4:30 p.m. \nLocation: First Congregational United Church of Christ \n 
URL:https://patriotsband.com/event/rehearsal-4/
LOCATION:First Congregational United Church of Christ\, 330 2nd St.\, Elyria\, OH\, United States
CATEGORIES:Rehearsal
END:VEVENT
BEGIN:VEVENT
DTSTART;TZID=America/New_York:20250209T140000
DTEND;TZID=America/New_York:20250209T163000
DTSTAMP:20260425T172507
CREATED:20241230T225839Z
LAST-MODIFIED:20250122T035345Z
UID:290-1739109600-1739118600@patriotsband.com
SUMMARY:Rehearsal
DESCRIPTION:Patriot’s Band Rehearsal \nDate: Sunday\, February 9\, 2025\, \nTime: 2:00 p.m. – 4:30 p.m. \nLocation: First Congregational United Church of Christ \n 
URL:https://patriotsband.com/event/rehearsal-3/
LOCATION:First Congregational United Church of Christ\, 330 2nd St.\, Elyria\, OH\, United States
CATEGORIES:Rehearsal
END:VEVENT
BEGIN:VEVENT
DTSTART;TZID=America/New_York:20250126T140000
DTEND;TZID=America/New_York:20250126T163000
DTSTAMP:20260425T172507
CREATED:20241230T233303Z
LAST-MODIFIED:20250122T035305Z
UID:336-1737900000-1737909000@patriotsband.com
SUMMARY:Rehearsal
DESCRIPTION:Patriot’s Band Rehearsal \nDate: Sunday\, January 26\, 2025\, \nTime: 2:00 p.m. – 4:30 p.m. \nLocation: First Congregational United Church of Christ
URL:https://patriotsband.com/event/rehearsal-17/
LOCATION:First Congregational United Church of Christ\, 330 2nd St.\, Elyria\, OH\, United States
CATEGORIES:Rehearsal
END:VEVENT
BEGIN:VEVENT
DTSTART;TZID=UTC:20250112T140000
DTEND;TZID=UTC:20250112T163000
DTSTAMP:20260425T172507
CREATED:20241230T233337Z
LAST-MODIFIED:20241230T233337Z
UID:338-1736690400-1736699400@patriotsband.com
SUMMARY:Rehearsal
DESCRIPTION:Patriot’s Band Rehearsal \nDate: Sunday\, January 12\, 2025\, \nTime: 2:00 p.m. – 4:30 p.m. \nLocation: First Congregational United Church of Christ
URL:https://patriotsband.com/event/rehearsal-18/
LOCATION:First Congregational United Church of Christ\, 330 2nd St.\, Elyria\, OH\, United States
CATEGORIES:Rehearsal
END:VEVENT
END:VCALENDAR