BEGIN:VCALENDAR
VERSION:2.0
PRODID:-//Patriots Symphonic Band - ECPv6.15.20//NONSGML v1.0//EN
CALSCALE:GREGORIAN
METHOD:PUBLISH
X-WR-CALNAME:Patriots Symphonic Band
X-ORIGINAL-URL:https://patriotsband.com
X-WR-CALDESC:Events for Patriots Symphonic Band
REFRESH-INTERVAL;VALUE=DURATION:PT1H
X-Robots-Tag:noindex
X-PUBLISHED-TTL:PT1H
BEGIN:VTIMEZONE
TZID:America/New_York
BEGIN:DAYLIGHT
TZOFFSETFROM:-0500
TZOFFSETTO:-0400
TZNAME:EDT
DTSTART:20250309T070000
END:DAYLIGHT
BEGIN:STANDARD
TZOFFSETFROM:-0400
TZOFFSETTO:-0500
TZNAME:EST
DTSTART:20251102T060000
END:STANDARD
BEGIN:DAYLIGHT
TZOFFSETFROM:-0500
TZOFFSETTO:-0400
TZNAME:EDT
DTSTART:20260308T070000
END:DAYLIGHT
BEGIN:STANDARD
TZOFFSETFROM:-0400
TZOFFSETTO:-0500
TZNAME:EST
DTSTART:20261101T060000
END:STANDARD
BEGIN:DAYLIGHT
TZOFFSETFROM:-0500
TZOFFSETTO:-0400
TZNAME:EDT
DTSTART:20270314T070000
END:DAYLIGHT
BEGIN:STANDARD
TZOFFSETFROM:-0400
TZOFFSETTO:-0500
TZNAME:EST
DTSTART:20271107T060000
END:STANDARD
END:VTIMEZONE
BEGIN:VEVENT
DTSTART;TZID=America/New_York:20260703T190000
DTEND;TZID=America/New_York:20260703T203000
DTSTAMP:20260424T131441
CREATED:20241212T001637Z
LAST-MODIFIED:20250922T221224Z
UID:143-1783105200-1783110600@patriotsband.com
SUMMARY:Wellington Independence Day Celebration Concert
DESCRIPTION:Wellington Independence Day Celebration Concert \nFriday\, July 3\, 2026 \nWellington Town Square \n7:00 p.m. \nFree Outdoor Concert \nRain location available
URL:https://patriotsband.com/event/wellington-independence-day-celebration-concert/
LOCATION:Wellington Town Square\, 135 S Main St\, Wellington\, OH\, 44090\, United States
CATEGORIES:Rehearsal
END:VEVENT
END:VCALENDAR