BEGIN:VCALENDAR
VERSION:2.0
PRODID:-//Patriots Symphonic Band - ECPv6.15.20//NONSGML v1.0//EN
CALSCALE:GREGORIAN
METHOD:PUBLISH
X-ORIGINAL-URL:https://patriotsband.com
X-WR-CALDESC:Events for Patriots Symphonic Band
REFRESH-INTERVAL;VALUE=DURATION:PT1H
X-Robots-Tag:noindex
X-PUBLISHED-TTL:PT1H
BEGIN:VTIMEZONE
TZID:America/New_York
BEGIN:DAYLIGHT
TZOFFSETFROM:-0500
TZOFFSETTO:-0400
TZNAME:EDT
DTSTART:20240310T070000
END:DAYLIGHT
BEGIN:STANDARD
TZOFFSETFROM:-0400
TZOFFSETTO:-0500
TZNAME:EST
DTSTART:20241103T060000
END:STANDARD
BEGIN:DAYLIGHT
TZOFFSETFROM:-0500
TZOFFSETTO:-0400
TZNAME:EDT
DTSTART:20250309T070000
END:DAYLIGHT
BEGIN:STANDARD
TZOFFSETFROM:-0400
TZOFFSETTO:-0500
TZNAME:EST
DTSTART:20251102T060000
END:STANDARD
BEGIN:DAYLIGHT
TZOFFSETFROM:-0500
TZOFFSETTO:-0400
TZNAME:EDT
DTSTART:20260308T070000
END:DAYLIGHT
BEGIN:STANDARD
TZOFFSETFROM:-0400
TZOFFSETTO:-0500
TZNAME:EST
DTSTART:20261101T060000
END:STANDARD
END:VTIMEZONE
BEGIN:VEVENT
DTSTART;TZID=America/New_York:20250621T070000
DTEND;TZID=America/New_York:20250621T203000
DTSTAMP:20260424T103509
CREATED:20241212T000448Z
LAST-MODIFIED:20250122T035755Z
UID:138-1750489200-1750537800@patriotsband.com
SUMMARY:Concert - Paper Moon Vineyards & Winery
DESCRIPTION:Saturday\, June 21\, 2025 \nPaper Moon Vineyards & Winery \n2008 State Rd.\, Vermilion\, Ohio \n7:00 p.m. \nFree Outdoor Concert
URL:https://patriotsband.com/event/concert-paper-moon/
LOCATION:Paper Moon Vineyard and Winery\, 2008 State Rd\, Vermilion\, OH\, 44089\, United States
END:VEVENT
END:VCALENDAR